BEGIN:VCALENDAR
VERSION:2.0
PRODID:-//Mairie de Santeuil - ECPv6.2.9//NONSGML v1.0//EN
CALSCALE:GREGORIAN
METHOD:PUBLISH
X-WR-CALNAME:Mairie de Santeuil
X-ORIGINAL-URL:https://santeuil28.fr
X-WR-CALDESC:évènements pour Mairie de Santeuil
REFRESH-INTERVAL;VALUE=DURATION:PT1H
X-Robots-Tag:noindex
X-PUBLISHED-TTL:PT1H
BEGIN:VTIMEZONE
TZID:Europe/Paris
BEGIN:DAYLIGHT
TZOFFSETFROM:+0100
TZOFFSETTO:+0200
TZNAME:CEST
DTSTART:20260329T010000
END:DAYLIGHT
BEGIN:STANDARD
TZOFFSETFROM:+0200
TZOFFSETTO:+0100
TZNAME:CET
DTSTART:20261025T010000
END:STANDARD
END:VTIMEZONE
BEGIN:VEVENT
DTSTART;TZID=Europe/Paris:20260312T203000
DTEND;TZID=Europe/Paris:20260312T213000
DTSTAMP:20260420T040250
CREATED:20260306T160555Z
LAST-MODIFIED:20260306T160555Z
UID:2756-1773347400-1773351000@santeuil28.fr
SUMMARY:Conseil Municipal
DESCRIPTION:ORDRE DU JOUR : \n\nDésignation du secrétaire de séance.\nValidation du Compte-rendu du dernier conseil municipal\nAffectation du résultat du budget 2025 au budget 2026.\nDevis chaises pour salle communale et son plan de financement.\nDevis guirlandes festives et son plan de financement.\nQuestions diverses
URL:https://santeuil28.fr/event/conseil-municipal-21/
LOCATION:Mairie de Santeuil\, 2 rue de la mairie\, SANTEUIL\, 28700
CATEGORIES:Agenda communal
ATTACH;FMTTYPE=image/jpeg:https://santeuil28.fr/wp-content/uploads/2021/09/cm.jpg
END:VEVENT
END:VCALENDAR