BEGIN:VCALENDAR
VERSION:2.0
PRODID:-//Mairie de Santeuil - ECPv6.2.9//NONSGML v1.0//EN
CALSCALE:GREGORIAN
METHOD:PUBLISH
X-WR-CALNAME:Mairie de Santeuil
X-ORIGINAL-URL:https://santeuil28.fr
X-WR-CALDESC:évènements pour Mairie de Santeuil
REFRESH-INTERVAL;VALUE=DURATION:PT1H
X-Robots-Tag:noindex
X-PUBLISHED-TTL:PT1H
BEGIN:VTIMEZONE
TZID:Europe/Paris
BEGIN:DAYLIGHT
TZOFFSETFROM:+0100
TZOFFSETTO:+0200
TZNAME:CEST
DTSTART:20260329T010000
END:DAYLIGHT
BEGIN:STANDARD
TZOFFSETFROM:+0200
TZOFFSETTO:+0100
TZNAME:CET
DTSTART:20261025T010000
END:STANDARD
END:VTIMEZONE
BEGIN:VEVENT
DTSTART;TZID=Europe/Paris:20260424T203000
DTEND;TZID=Europe/Paris:20260424T230000
DTSTAMP:20260420T035141
CREATED:20260418T081202Z
LAST-MODIFIED:20260418T081202Z
UID:2791-1777062600-1777071600@santeuil28.fr
SUMMARY:Conseil Municipal
DESCRIPTION:Ordre du jour : \n1. Désignation du secrétaire de séance.\n2. Validation du compte-rendu du dernier conseil municipal.\n3. Fixation des conditions du conseil Municipal des jeunes.\n4. Désignation du lauréat de la consultation voirie phase 2.\n5. Vote du Compte-Financier-Unique (CFU).\n6. Vote du budget Primitif 2026.\n7. Questions diverses.
URL:https://santeuil28.fr/event/conseil-municipal-23/
LOCATION:Mairie de Santeuil\, 2 rue de la mairie\, SANTEUIL\, 28700
CATEGORIES:Agenda communal
ATTACH;FMTTYPE=image/jpeg:https://santeuil28.fr/wp-content/uploads/2026/03/conseil.jpg
END:VEVENT
END:VCALENDAR