BEGIN:VCALENDAR
VERSION:2.0
PRODID:-//Mairie de Santeuil - ECPv6.2.9//NONSGML v1.0//EN
CALSCALE:GREGORIAN
METHOD:PUBLISH
X-ORIGINAL-URL:https://santeuil28.fr
X-WR-CALDESC:évènements pour Mairie de Santeuil
REFRESH-INTERVAL;VALUE=DURATION:PT1H
X-Robots-Tag:noindex
X-PUBLISHED-TTL:PT1H
BEGIN:VTIMEZONE
TZID:Europe/Paris
BEGIN:DAYLIGHT
TZOFFSETFROM:+0100
TZOFFSETTO:+0200
TZNAME:CEST
DTSTART:20210328T010000
END:DAYLIGHT
BEGIN:STANDARD
TZOFFSETFROM:+0200
TZOFFSETTO:+0100
TZNAME:CET
DTSTART:20211031T010000
END:STANDARD
BEGIN:DAYLIGHT
TZOFFSETFROM:+0100
TZOFFSETTO:+0200
TZNAME:CEST
DTSTART:20220327T010000
END:DAYLIGHT
BEGIN:STANDARD
TZOFFSETFROM:+0200
TZOFFSETTO:+0100
TZNAME:CET
DTSTART:20221030T010000
END:STANDARD
BEGIN:DAYLIGHT
TZOFFSETFROM:+0100
TZOFFSETTO:+0200
TZNAME:CEST
DTSTART:20230326T010000
END:DAYLIGHT
BEGIN:STANDARD
TZOFFSETFROM:+0200
TZOFFSETTO:+0100
TZNAME:CET
DTSTART:20231029T010000
END:STANDARD
BEGIN:DAYLIGHT
TZOFFSETFROM:+0100
TZOFFSETTO:+0200
TZNAME:CEST
DTSTART:20240331T010000
END:DAYLIGHT
BEGIN:STANDARD
TZOFFSETFROM:+0200
TZOFFSETTO:+0100
TZNAME:CET
DTSTART:20241027T010000
END:STANDARD
BEGIN:DAYLIGHT
TZOFFSETFROM:+0100
TZOFFSETTO:+0200
TZNAME:CEST
DTSTART:20250330T010000
END:DAYLIGHT
BEGIN:STANDARD
TZOFFSETFROM:+0200
TZOFFSETTO:+0100
TZNAME:CET
DTSTART:20251026T010000
END:STANDARD
BEGIN:DAYLIGHT
TZOFFSETFROM:+0100
TZOFFSETTO:+0200
TZNAME:CEST
DTSTART:20260329T010000
END:DAYLIGHT
BEGIN:STANDARD
TZOFFSETFROM:+0200
TZOFFSETTO:+0100
TZNAME:CET
DTSTART:20261025T010000
END:STANDARD
TZID:Arctic/Longyearbyen
BEGIN:DAYLIGHT
TZOFFSETFROM:+0100
TZOFFSETTO:+0200
TZNAME:CEST
DTSTART:20210328T010000
END:DAYLIGHT
BEGIN:STANDARD
TZOFFSETFROM:+0200
TZOFFSETTO:+0100
TZNAME:CET
DTSTART:20211031T010000
END:STANDARD
END:VTIMEZONE
BEGIN:VEVENT
DTSTART;TZID=Europe/Paris:20260410T203000
DTEND;TZID=Europe/Paris:20260410T213000
DTSTAMP:20260420T060730
CREATED:20260410T144231Z
LAST-MODIFIED:20260410T144231Z
UID:2784-1775853000-1775856600@santeuil28.fr
SUMMARY:Conseil Municipal
DESCRIPTION:Ordre du jour : \n\nDésignation du secrétaire de séance.\nValidation du compte-rendu du dernier conseil municipal.\nFixation de l’indemnité du maire.\nVote de taux de fiscalité.\nVote des subventions aux associations.\nQuestions diverses.
URL:https://santeuil28.fr/event/conseil-municipal-22/
CATEGORIES:Agenda communal
ATTACH;FMTTYPE=image/jpeg:https://santeuil28.fr/wp-content/uploads/2026/03/conseil.jpg
END:VEVENT
BEGIN:VEVENT
DTSTART;TZID=Europe/Paris:20260312T203000
DTEND;TZID=Europe/Paris:20260312T213000
DTSTAMP:20260420T060730
CREATED:20260306T160555Z
LAST-MODIFIED:20260306T160555Z
UID:2756-1773347400-1773351000@santeuil28.fr
SUMMARY:Conseil Municipal
DESCRIPTION:ORDRE DU JOUR : \n\nDésignation du secrétaire de séance.\nValidation du Compte-rendu du dernier conseil municipal\nAffectation du résultat du budget 2025 au budget 2026.\nDevis chaises pour salle communale et son plan de financement.\nDevis guirlandes festives et son plan de financement.\nQuestions diverses
URL:https://santeuil28.fr/event/conseil-municipal-21/
LOCATION:Mairie de Santeuil\, 2 rue de la mairie\, SANTEUIL\, 28700
CATEGORIES:Agenda communal
ATTACH;FMTTYPE=image/jpeg:https://santeuil28.fr/wp-content/uploads/2021/09/cm.jpg
END:VEVENT
BEGIN:VEVENT
DTSTART;TZID=Europe/Paris:20260205T203000
DTEND;TZID=Europe/Paris:20260205T220000
DTSTAMP:20260420T060730
CREATED:20260128T164857Z
LAST-MODIFIED:20260128T165009Z
UID:2735-1770323400-1770328800@santeuil28.fr
SUMMARY:Conseil municipal
DESCRIPTION:ORDRE DU JOUR : \n\nDésignation du secrétaire de séance.\nValidation du Compte-rendu du dernier conseil municipal\nValidation Compte Épargne Temps et Entretien annuel pour les salariés.\nModification délibération agents recenseurs.\nContrat de dématérialisation de transmission des actes.\nDCE phase 2 travaux de voirie\nQuestions diverses
URL:https://santeuil28.fr/event/conseil-municipal-20/
CATEGORIES:Agenda communal
ATTACH;FMTTYPE=image/jpeg:https://santeuil28.fr/wp-content/uploads/2021/09/cm.jpg
END:VEVENT
BEGIN:VEVENT
DTSTART;TZID=Europe/Paris:20251127T203000
DTEND;TZID=Europe/Paris:20251127T220000
DTSTAMP:20260420T060730
CREATED:20251120T140325Z
LAST-MODIFIED:20251120T140325Z
UID:2706-1764275400-1764280800@santeuil28.fr
SUMMARY:Conseil Municipal
DESCRIPTION:ORDRE DU JOUR : \n\nDésignation du secrétaire de séance.\nValidation du Compte-rendu du dernier conseil municipal\nPassage de l’agent communal à 35h\nConvention 30 millions d’amis\nRestauration cloche classée de l’église\nAutorisation de dépenses d’investissement avant vote du budget\nSubvention APE des champs dorés\nQuestions diverses
URL:https://santeuil28.fr/event/conseil-municipal-19/
LOCATION:Mairie de Santeuil\, 2 rue de la mairie\, SANTEUIL\, 28700
CATEGORIES:Agenda communal,Annonces
ATTACH;FMTTYPE=image/jpeg:https://santeuil28.fr/wp-content/uploads/2021/09/cm.jpg
END:VEVENT
BEGIN:VEVENT
DTSTART;TZID=Europe/Paris:20251118T203000
DTEND;TZID=Europe/Paris:20251118T213000
DTSTAMP:20260420T060730
CREATED:20251115T094211Z
LAST-MODIFIED:20251115T094211Z
UID:2701-1763497800-1763501400@santeuil28.fr
SUMMARY:Conseil Municipal
DESCRIPTION:ORDRE DU JOUR : \n\nDésignation du secrétaire de séance.\nValidation du Compte-rendu du dernier conseil municipal\nPrésentation des offres et choix du prestataire pour la phase 1 des travaux de voirie.\nDécision modificative budgétaire\nRéduction du loyer du distributeur de baguettes.\nQuestions diverses
URL:https://santeuil28.fr/event/conseil-municipal-18/
LOCATION:Mairie de Santeuil\, 2 rue de la mairie\, SANTEUIL\, 28700
CATEGORIES:Agenda communal
ATTACH;FMTTYPE=image/jpeg:https://santeuil28.fr/wp-content/uploads/2021/09/cm.jpg
END:VEVENT
BEGIN:VEVENT
DTSTART;TZID=Europe/Paris:20251111T110000
DTEND;TZID=Europe/Paris:20251111T130000
DTSTAMP:20260420T060730
CREATED:20251105T163215Z
LAST-MODIFIED:20251105T163502Z
UID:2695-1762858800-1762866000@santeuil28.fr
SUMMARY:Commémoration 11 Novembre
DESCRIPTION:
URL:https://santeuil28.fr/event/commemoration-11-novembre/
LOCATION:Mairie de Santeuil\, 2 rue de la mairie\, SANTEUIL\, 28700
CATEGORIES:Agenda communal,Annonces
ORGANIZER;CN="Mairie de Santeuil":MAILTO:evenement@santeuil28.fr
END:VEVENT
BEGIN:VEVENT
DTSTART;TZID=Europe/Paris:20251016T200000
DTEND;TZID=Europe/Paris:20251016T210000
DTSTAMP:20260420T060730
CREATED:20251016T130926Z
LAST-MODIFIED:20251016T130926Z
UID:2687-1760644800-1760648400@santeuil28.fr
SUMMARY:Conseil Municipal
DESCRIPTION:Ordre du jour: CONVOCATION AU CONSEIL MUNICIPAL ET ORDRE DU 16 octobre 2025
URL:https://santeuil28.fr/event/conseil-municipal-17/
LOCATION:Mairie de Santeuil\, 2 rue de la mairie\, SANTEUIL\, 28700
CATEGORIES:Agenda communal,Annonces
ATTACH;FMTTYPE=image/jpeg:https://santeuil28.fr/wp-content/uploads/2021/09/cm.jpg
END:VEVENT
BEGIN:VEVENT
DTSTART;TZID=Europe/Paris:20250306T200000
DTEND;TZID=Europe/Paris:20250306T210000
DTSTAMP:20260420T060730
CREATED:20250224T172101Z
LAST-MODIFIED:20250224T172101Z
UID:2575-1741291200-1741294800@santeuil28.fr
SUMMARY:Conseil Municipal
DESCRIPTION:Ordre du jour:\nApprobation du CR du dernier conseil\nVote du CFU\nVote des subventions aux associations
URL:https://santeuil28.fr/event/conseil-municipal-16/
LOCATION:Mairie de Santeuil\, 2 rue de la mairie\, SANTEUIL\, 28700
CATEGORIES:Agenda communal,Annonces
ATTACH;FMTTYPE=image/jpeg:https://santeuil28.fr/wp-content/uploads/2021/09/cm.jpg
END:VEVENT
BEGIN:VEVENT
DTSTART;TZID=Europe/Paris:20240607T200000
DTEND;TZID=Europe/Paris:20240607T213000
DTSTAMP:20260420T060730
CREATED:20240606T175005Z
LAST-MODIFIED:20240606T175005Z
UID:2427-1717790400-1717795800@santeuil28.fr
SUMMARY:Conseil Municipal
DESCRIPTION:Le conseil se tiendra dans la salle de réunion à la mairie. \nOrdre du jour: \n\nDésignation du secrétaire de séance.\nValidation du Compte-rendu du dernier conseil municipal.\nVote du Compte Financier Unique 2023\nDécision modificative budgétaire\nConvention boulangerie\nTarifs animation 14 juillet
URL:https://santeuil28.fr/event/conseil-municipal-15/
LOCATION:Mairie de Santeuil\, 2 rue de la mairie\, SANTEUIL\, 28700
CATEGORIES:Agenda communal,Annonces
ORGANIZER;CN="Mairie de Santeuil":MAILTO:evenement@santeuil28.fr
END:VEVENT
BEGIN:VEVENT
DTSTART;TZID=Europe/Paris:20230704T190000
DTEND;TZID=Europe/Paris:20230704T193000
DTSTAMP:20260420T060730
CREATED:20230629T194725Z
LAST-MODIFIED:20230629T194802Z
UID:2242-1688497200-1688499000@santeuil28.fr
SUMMARY:Conseil municipal
DESCRIPTION:Le conseil municipal n’ayant pas obtenu le quorum le 29 juin\, le conseil est reporté le mardi 4 juillet à 19h \nCONVOCATION AU CONSEIL MUNICIPAL ET ORDRE DU JOUR 4 juillet
URL:https://santeuil28.fr/event/conseil-municipal-14/
CATEGORIES:Agenda communal
ATTACH;FMTTYPE=image/jpeg:https://santeuil28.fr/wp-content/uploads/2021/09/cm.jpg
END:VEVENT
BEGIN:VEVENT
DTSTART;TZID=Europe/Paris:20230629T200000
DTEND;TZID=Europe/Paris:20230629T210000
DTSTAMP:20260420T060730
CREATED:20230627T144848Z
LAST-MODIFIED:20230627T144848Z
UID:2240-1688068800-1688072400@santeuil28.fr
SUMMARY:Conseil municipal
DESCRIPTION:Conseil municipal du 29 juin \nOrdre du jour: \nTarifs du 14 juillet \nQuestions diverses
URL:https://santeuil28.fr/event/conseil-municipal-13/
LOCATION:Mairie de Santeuil\, 2 rue de la mairie\, SANTEUIL\, 28700
CATEGORIES:Agenda communal,Annonces
ATTACH;FMTTYPE=image/jpeg:https://santeuil28.fr/wp-content/uploads/2021/09/cm.jpg
END:VEVENT
BEGIN:VEVENT
DTSTART;TZID=Europe/Paris:20230510T200000
DTEND;TZID=Europe/Paris:20230510T220000
DTSTAMP:20260420T060730
CREATED:20230503T170222Z
LAST-MODIFIED:20230503T170222Z
UID:2211-1683748800-1683756000@santeuil28.fr
SUMMARY:Conseil Municipal
DESCRIPTION:Conseil Municipal le 10 mai à 20h
URL:https://santeuil28.fr/event/conseil-municipal-12/
LOCATION:Mairie de Santeuil\, 2 rue de la mairie\, SANTEUIL\, 28700
CATEGORIES:Agenda communal,Annonces
ATTACH;FMTTYPE=image/jpeg:https://santeuil28.fr/wp-content/uploads/2021/09/cm.jpg
ORGANIZER;CN="Mairie de Santeuil":MAILTO:evenement@santeuil28.fr
END:VEVENT
BEGIN:VEVENT
DTSTART;VALUE=DATE:20230422
DTEND;VALUE=DATE:20230423
DTSTAMP:20260420T060730
CREATED:20230325T094502Z
LAST-MODIFIED:20230325T094608Z
UID:2149-1682121600-1682207999@santeuil28.fr
SUMMARY:MEDIEVALE
DESCRIPTION:
URL:https://santeuil28.fr/event/medievale/
LOCATION:Place de l’église Santeuil\, 2 rue de la mairie\, Santeuil\, 28700\, France
CATEGORIES:Agenda communal,Annonces
ATTACH;FMTTYPE=image/png:https://santeuil28.fr/wp-content/uploads/2023/03/1.png
ORGANIZER;CN="Mairie de Santeuil":MAILTO:evenement@santeuil28.fr
END:VEVENT
BEGIN:VEVENT
DTSTART;TZID=Europe/Paris:20230330T203000
DTEND;TZID=Europe/Paris:20230330T220000
DTSTAMP:20260420T060730
CREATED:20230325T092706Z
LAST-MODIFIED:20230325T093328Z
UID:2144-1680208200-1680213600@santeuil28.fr
SUMMARY:CONSEIL MUNICIPAL
DESCRIPTION:Conseil Municipal le jeudi 30 mars à 20h30: \nVote du compte administratif 2022 \nVote du compte de gestion 2022 \nVote de l’affectation du résultat 2022 \nVote du budget primitif 2023
URL:https://santeuil28.fr/event/conseil-municipal-11/
LOCATION:Mairie de Santeuil\, 2 rue de la mairie\, SANTEUIL\, 28700
CATEGORIES:Agenda communal
ORGANIZER;CN="Mairie de Santeuil":MAILTO:evenement@santeuil28.fr
END:VEVENT
BEGIN:VEVENT
DTSTART;TZID=Europe/Paris:20220331T080000
DTEND;TZID=Europe/Paris:20220331T170000
DTSTAMP:20260420T060730
CREATED:20220331T145959Z
LAST-MODIFIED:20220331T160006Z
UID:1595-1648713600-1648746000@santeuil28.fr
SUMMARY:CONSEIL MUNICIPAL
DESCRIPTION:Conseil Municipal vendredi 1er avril 2020 19h30 à la mairie.
URL:https://santeuil28.fr/event/conseil-municipal-9/
LOCATION:Mairie de Santeuil\, 2 rue de la mairie\, SANTEUIL\, 28700
CATEGORIES:Agenda communal,Annonces
ATTACH;FMTTYPE=image/jpeg:https://santeuil28.fr/wp-content/uploads/2021/09/cm.jpg
END:VEVENT
BEGIN:VEVENT
DTSTART;TZID=Europe/Paris:20211215T203000
DTEND;TZID=Europe/Paris:20211215T223000
DTSTAMP:20260420T060730
CREATED:20211214T191606Z
LAST-MODIFIED:20211214T191606Z
UID:1367-1639600200-1639607400@santeuil28.fr
SUMMARY:Conseil Municipal
DESCRIPTION:Conseil Municipal à la mairie 20h30 \nCONVOCATION AU CONSEIL MUNICIPAL 15 décembre2021 (1)
URL:https://santeuil28.fr/event/conseil-municipal-8/
LOCATION:Mairie de Santeuil\, 2 rue de la mairie\, SANTEUIL\, 28700
CATEGORIES:Agenda communal,Annonces
END:VEVENT
BEGIN:VEVENT
DTSTART;TZID=Europe/Paris:20211121T143000
DTEND;TZID=Europe/Paris:20211121T180000
DTSTAMP:20260420T060730
CREATED:20211115T211317Z
LAST-MODIFIED:20211115T211433Z
UID:1331-1637505000-1637517600@santeuil28.fr
SUMMARY:VENTE DE FROMAGES
DESCRIPTION:Dimanche 21 novembre\, un fromager fera une halte à Santeuil pour nous faire déguster des produits de qualité. \nAfin de passer un moment convivial\, il vous sera servis un vin chaud\, thé ou chocolat chaud. \n 
URL:https://santeuil28.fr/event/vente-de-fromages/
LOCATION:Mairie de Santeuil\, 2 rue de la mairie\, SANTEUIL\, 28700
CATEGORIES:Agenda communal,Annonces
ATTACH;FMTTYPE=image/png:https://santeuil28.fr/wp-content/uploads/2021/11/Blanc-et-Rouge-Photo-Agriculteurs-Marche-Affiche.png
END:VEVENT
BEGIN:VEVENT
DTSTART;TZID=Europe/Paris:20211110T203000
DTEND;TZID=Europe/Paris:20211110T220000
DTSTAMP:20260420T060730
CREATED:20211103T185323Z
LAST-MODIFIED:20211103T185543Z
UID:1318-1636576200-1636581600@santeuil28.fr
SUMMARY:Conseil Municipal
DESCRIPTION:Conseil Municipal du 10 novembre 2021 20h30 à la mairie. \nCONVOCATION AU CONSEIL MUNICIPAL 10 novembre 2021 (1)
URL:https://santeuil28.fr/event/conseil-municipal-7/
LOCATION:Mairie de Santeuil\, 2 rue de la mairie\, SANTEUIL\, 28700
CATEGORIES:Agenda communal,Annonces
ATTACH;FMTTYPE=image/jpeg:https://santeuil28.fr/wp-content/uploads/2021/09/cm.jpg
END:VEVENT
BEGIN:VEVENT
DTSTART;TZID=Europe/Paris:20211014T203000
DTEND;TZID=Europe/Paris:20211014T223000
DTSTAMP:20260420T060730
CREATED:20211011T162500Z
LAST-MODIFIED:20211011T165512Z
UID:1273-1634243400-1634250600@santeuil28.fr
SUMMARY:Conseil Municipal
DESCRIPTION:Conseil Municipal du 14 Octobre 2021 à 20h30 \nCONVOCATION AU CONSEIL MUNICIPAL 14 octobre 2021 (1)
URL:https://santeuil28.fr/event/conseil-municipal-6/
LOCATION:Mairie de Santeuil\, 2 rue de la mairie\, SANTEUIL\, 28700
CATEGORIES:Agenda communal,Annonces
END:VEVENT
BEGIN:VEVENT
DTSTART;TZID=Europe/Paris:20210918T100000
DTEND;TZID=Europe/Paris:20210919T173000
DTSTAMP:20260420T060730
CREATED:20210913T163324Z
LAST-MODIFIED:20210913T163324Z
UID:1236-1631959200-1632072600@santeuil28.fr
SUMMARY:Journées du Patrimoine
DESCRIPTION:Les journées du patrimoine auront lieu les 18 et 19 septembre. A cette occasion\, la mairie et l’église seront ouvertes au public. \nLe samedi la mairie de 10h à 12h. \nLe dimanche l’église de 15h à 17h30 avec une visite commentée.
URL:https://santeuil28.fr/event/journees-du-patrimoine/
CATEGORIES:Agenda communal,Annonces
END:VEVENT
BEGIN:VEVENT
DTSTART;TZID=Europe/Paris:20210909T203000
DTEND;TZID=Europe/Paris:20210909T220000
DTSTAMP:20260420T060730
CREATED:20210907T002959Z
LAST-MODIFIED:20210907T003013Z
UID:1226-1631219400-1631224800@santeuil28.fr
SUMMARY:Conseil Municipal
DESCRIPTION:Convocation cm 09-09 Conseil Municipal du 09 septembre 2021 à 20h30 à la salle polyvalente.
URL:https://santeuil28.fr/event/conseil-municipal-5/
LOCATION:Mairie de Santeuil\, 2 rue de la mairie\, SANTEUIL\, 28700
CATEGORIES:Agenda communal,Annonces
END:VEVENT
BEGIN:VEVENT
DTSTART;TZID=Europe/Paris:20210708T180000
DTEND;TZID=Europe/Paris:20210708T230000
DTSTAMP:20260420T060730
CREATED:20210708T132229Z
LAST-MODIFIED:20210708T132229Z
UID:1147-1625767200-1625785200@santeuil28.fr
SUMMARY:Réunion de Bureau communautaire
DESCRIPTION:Réunion de bureau communautaire de Chartres Métropole \nODJ BC 08.07.2021
URL:https://santeuil28.fr/event/reunion-de-bureau-communautaire/
LOCATION:salle Chichester Chartrexpo\, avenue Jean Mermoz\, Chartres\, 28700
CATEGORIES:Agenda communal
END:VEVENT
BEGIN:VEVENT
DTSTART;TZID=Europe/Paris:20210707T190000
DTEND;TZID=Europe/Paris:20210707T203000
DTSTAMP:20260420T060730
CREATED:20210707T153215Z
LAST-MODIFIED:20210707T153215Z
UID:1141-1625684400-1625689800@santeuil28.fr
SUMMARY:Réunion du SIRP
DESCRIPTION:Réunion du Syndicat d’Initiative à Regroupement Pédagogique de Béville-Le-Comte \n07.07.2021
URL:https://santeuil28.fr/event/reunion-du-sirp/
LOCATION:Salle des associations\, Place de la mairie\, Béville-Le-Comte\, 28700
CATEGORIES:Agenda communal
END:VEVENT
BEGIN:VEVENT
DTSTART;TZID=Europe/Paris:20210614T203000
DTEND;TZID=Europe/Paris:20210614T223000
DTSTAMP:20260420T060730
CREATED:20210614T115747Z
LAST-MODIFIED:20210614T115747Z
UID:1079-1623702600-1623709800@santeuil28.fr
SUMMARY:Conférence des maires
DESCRIPTION:Invitation Conférence des Maires 14 06 2021
URL:https://santeuil28.fr/event/conference-des-maires/
LOCATION:Hémicicle du pôle administratif\, place des halles\, Chartres\, 2800\, France
CATEGORIES:Agenda communal
END:VEVENT
BEGIN:VEVENT
DTSTART;TZID=Europe/Paris:20210606T080000
DTEND;TZID=Europe/Paris:20210606T170000
DTSTAMP:20260420T060730
CREATED:20210513T080116Z
LAST-MODIFIED:20210513T080116Z
UID:1009-1622966400-1622998800@santeuil28.fr
SUMMARY:Mai à vélo Balade familiale
DESCRIPTION:La Mairie de Santeuil vous convie dans le cadre d ‘une balade champêtre en Cœur de Beauce.\nCette sortie conviviale en VTT d’une dizaine de kilomètres est destinée à toute la famille.\nUn parcours mixte route/champs à la portée de tous vous sera proposé. \nRendez-vous Dimanche 6 juin 2021 à 14h30 dans la cours de la maire de Santeuil. \nInscrivez-vous en remplissant le formulaire ci-dessous et renvoyez le par courrier ou par mail à mairie.santeuil@wanadoo.fr
URL:https://santeuil28.fr/event/mai-a-velo-balade-familiale/
LOCATION:Mairie de Santeuil\, 2 rue de la mairie\, SANTEUIL\, 28700
CATEGORIES:Agenda communal
END:VEVENT
BEGIN:VEVENT
DTSTART;TZID=Arctic/Longyearbyen:20210523T143000
DTEND;TZID=Arctic/Longyearbyen:20210523T170000
DTSTAMP:20260420T060730
CREATED:20210513T072341Z
LAST-MODIFIED:20210513T080147Z
UID:989-1621780200-1621789200@santeuil28.fr
SUMMARY:Mai à vélo Sortie sportive
DESCRIPTION:La Mairie de Santeuil vous convie dans le cadre d’une sortie sportive. \nCette sortie en\nvélo de route d’une soixantaine de kilomètres est destinée à des personnes sportives Un parcours sur les routes à travers les champs de blé vous sera proposé. \nRendez-vous Dimanche 23 mai 2021 à 9h00 dans le cours du maire de Santeuil. \nInscrivez-vous via le formulaire ci-dessous et renvoyez le par courrier ou par mail à mairie.santeuil@wanadoo.fr
URL:https://santeuil28.fr/event/mai-a-velo/
LOCATION:2 rue de la mairie\, SANTEUIL\, 28700
CATEGORIES:Agenda communal
ATTACH;FMTTYPE=image/jpeg:https://santeuil28.fr/wp-content/uploads/2021/05/600x315-1.jpg
END:VEVENT
BEGIN:VEVENT
DTSTART;TZID=Europe/Paris:20210520T200000
DTEND;TZID=Europe/Paris:20210520T220000
DTSTAMP:20260420T060730
CREATED:20210525T161114Z
LAST-MODIFIED:20210525T161114Z
UID:1013-1621540800-1621548000@santeuil28.fr
SUMMARY:Conseil Municipal
DESCRIPTION:Conseil Municipal du 20 mai 2021 à 20h \n CONVOCATION AU CONSEIL MUNICIPAL 20 mai 2021
URL:https://santeuil28.fr/event/conseil-municipal-4/
LOCATION:Mairie de Santeuil\, 2 rue de la mairie\, SANTEUIL\, 28700
CATEGORIES:Agenda communal
END:VEVENT
BEGIN:VEVENT
DTSTART;TZID=Europe/Paris:20210408T200000
DTEND;TZID=Europe/Paris:20210408T220000
DTSTAMP:20260420T060730
CREATED:20210402T174844Z
LAST-MODIFIED:20210402T174844Z
UID:891-1617912000-1617919200@santeuil28.fr
SUMMARY:Conseil Municipal
DESCRIPTION:Conseil du 08 avril 2021 concernant le vote du budget et les délégations données au maire par le conseil municipal. \nConvocation conseil municipal du 8 avril 2021 (1)
URL:https://santeuil28.fr/event/conseil-municipal-3/
LOCATION:Mairie de Santeuil\, 2 rue de la mairie\, SANTEUIL\, 28700
CATEGORIES:Agenda communal
END:VEVENT
BEGIN:VEVENT
DTSTART;TZID=Europe/Paris:20210401T200000
DTEND;TZID=Europe/Paris:20210401T210000
DTSTAMP:20260420T060730
CREATED:20210402T162649Z
LAST-MODIFIED:20210402T162649Z
UID:884-1617307200-1617310800@santeuil28.fr
SUMMARY:Conseil Municipal
DESCRIPTION:Conseil municipal du 01/04/2021 afin de voté les indemnités du 1er adjoint et une délégation au maire. \nCONVOCATION AU CONSEIL MUNICIPAL DU 01-04-2021
URL:https://santeuil28.fr/event/conseil-municipal-2/
LOCATION:Mairie de Santeuil\, 2 rue de la mairie\, SANTEUIL\, 28700
CATEGORIES:Agenda communal
END:VEVENT
BEGIN:VEVENT
DTSTART;TZID=Europe/Paris:20210331T200000
DTEND;TZID=Europe/Paris:20210331T220000
DTSTAMP:20260420T060730
CREATED:20210317T182247Z
LAST-MODIFIED:20210317T182247Z
UID:825-1617220800-1617228000@santeuil28.fr
SUMMARY:Réunion SIRP
DESCRIPTION:Réunion du Syndicat Intercommunal Regroupement Pédagogique de Béville-Le-Comte \nNous traiterons de la préparation du budget.
URL:https://santeuil28.fr/event/reunion-sirp/
LOCATION:Halle des sports de Béville\, 7 rue des sports\, Béville-Le-Comte\, 28700
END:VEVENT
END:VCALENDAR